BEGIN:VCALENDAR
VERSION:2.0
PRODID:-//Real Ale Brewing Company - ECPv6.15.16//NONSGML v1.0//EN
CALSCALE:GREGORIAN
METHOD:PUBLISH
X-WR-CALNAME:Real Ale Brewing Company
X-ORIGINAL-URL:https://realalebrewing.com
X-WR-CALDESC:Events for Real Ale Brewing Company
REFRESH-INTERVAL;VALUE=DURATION:PT1H
X-Robots-Tag:noindex
X-PUBLISHED-TTL:PT1H
BEGIN:VTIMEZONE
TZID:America/Chicago
BEGIN:DAYLIGHT
TZOFFSETFROM:-0600
TZOFFSETTO:-0500
TZNAME:CDT
DTSTART:20250309T080000
END:DAYLIGHT
BEGIN:STANDARD
TZOFFSETFROM:-0500
TZOFFSETTO:-0600
TZNAME:CST
DTSTART:20251102T070000
END:STANDARD
BEGIN:DAYLIGHT
TZOFFSETFROM:-0600
TZOFFSETTO:-0500
TZNAME:CDT
DTSTART:20260308T080000
END:DAYLIGHT
BEGIN:STANDARD
TZOFFSETFROM:-0500
TZOFFSETTO:-0600
TZNAME:CST
DTSTART:20261101T070000
END:STANDARD
BEGIN:DAYLIGHT
TZOFFSETFROM:-0600
TZOFFSETTO:-0500
TZNAME:CDT
DTSTART:20270314T080000
END:DAYLIGHT
BEGIN:STANDARD
TZOFFSETFROM:-0500
TZOFFSETTO:-0600
TZNAME:CST
DTSTART:20271107T070000
END:STANDARD
END:VTIMEZONE
BEGIN:VEVENT
DTSTART;VALUE=DATE:20260425
DTEND;VALUE=DATE:20260427
DTSTAMP:20260423T091849
CREATED:20260422T221923Z
LAST-MODIFIED:20260422T221923Z
UID:6471-1777075200-1777247999@realalebrewing.com
SUMMARY:National Pretzel Day feat. Cask Conditioned Brewhouse Brown Ale
DESCRIPTION:Sunday is the day but we’ll celebrate a little early and have cask conditioned Brewhouse Brown with peanut butter & sea salt in honor of National Pretzel Day. Come see us! \n \n 
URL:https://realalebrewing.com/event/national-pretzel-day-feat-cask-conditioned-brewhouse-brown-ale/
CATEGORIES:At The Brewery
ATTACH;FMTTYPE=image/jpeg:https://realalebrewing.com/wp-content/uploads/2026/04/beer-pretzel-edit-scaled.jpeg
END:VEVENT
END:VCALENDAR