BEGIN:VCALENDAR
VERSION:2.0
PRODID:-//Real Ale Brewing Company - ECPv6.15.16//NONSGML v1.0//EN
CALSCALE:GREGORIAN
METHOD:PUBLISH
X-WR-CALNAME:Real Ale Brewing Company
X-ORIGINAL-URL:https://realalebrewing.com
X-WR-CALDESC:Events for Real Ale Brewing Company
REFRESH-INTERVAL;VALUE=DURATION:PT1H
X-Robots-Tag:noindex
X-PUBLISHED-TTL:PT1H
BEGIN:VTIMEZONE
TZID:America/Chicago
BEGIN:DAYLIGHT
TZOFFSETFROM:-0600
TZOFFSETTO:-0500
TZNAME:CDT
DTSTART:20250309T080000
END:DAYLIGHT
BEGIN:STANDARD
TZOFFSETFROM:-0500
TZOFFSETTO:-0600
TZNAME:CST
DTSTART:20251102T070000
END:STANDARD
BEGIN:DAYLIGHT
TZOFFSETFROM:-0600
TZOFFSETTO:-0500
TZNAME:CDT
DTSTART:20260308T080000
END:DAYLIGHT
BEGIN:STANDARD
TZOFFSETFROM:-0500
TZOFFSETTO:-0600
TZNAME:CST
DTSTART:20261101T070000
END:STANDARD
BEGIN:DAYLIGHT
TZOFFSETFROM:-0600
TZOFFSETTO:-0500
TZNAME:CDT
DTSTART:20270314T080000
END:DAYLIGHT
BEGIN:STANDARD
TZOFFSETFROM:-0500
TZOFFSETTO:-0600
TZNAME:CST
DTSTART:20271107T070000
END:STANDARD
END:VTIMEZONE
BEGIN:VEVENT
DTSTART;VALUE=DATE:20260321
DTEND;VALUE=DATE:20260322
DTSTAMP:20260420T003618
CREATED:20260305T220303Z
LAST-MODIFIED:20260305T221008Z
UID:6147-1774051200-1774137599@realalebrewing.com
SUMMARY:Pilot Release: Hopped & Brewed\, a New Zealand IPA
DESCRIPTION:Hopped & Brewed New Zealand IPA is a collab with our Houston area pals at Hughie’s\, Moontower Inn\, Nobi Public House and Hop Scholar.\nWe took a simple IPA malt backbone 🌾and chopped & screwed it with all New Zealand hops – Nelson Savuin and Galaxy. The result is a vibrant tropical IPA🌴with notes of papaya\, peach🥭 and guava with a little hint of cannabis and a splash of purple grape🍇 Sip slow and let it ride. \nEvery pilot release is a chance to try something different — sometimes it’s a twist on a classic style\, sometimes it’s a bold new direction. These beers are brewed in extremely small quantities on our 8bbl pilot system\, and are typically only available in our Blanco taproom (and in some cases at our collab partners place). If you see one you want to try\, don’t wait. \n 
URL:https://realalebrewing.com/event/pilot-release-hoppedandbrewednzipa/
CATEGORIES:At The Brewery
ATTACH;FMTTYPE=image/png:https://realalebrewing.com/wp-content/uploads/2026/03/HOPPED-BREWED-16x9-1.png
END:VEVENT
END:VCALENDAR